Package: LBE Version: 1.72.0 Command: /home/biocbuild/R/R-beta-2024-04-15_r86425/bin/R CMD INSTALL LBE StartedAt: 2024-05-08 20:02:44 -0000 (Wed, 08 May 2024) EndedAt: 2024-05-08 20:03:04 -0000 (Wed, 08 May 2024) EllapsedTime: 19.6 seconds RetCode: 0 Status: OK