Package: LACE Version: 2.8.0 Command: E:\biocbuild\bbs-3.19-bioc\R\bin\R.exe CMD INSTALL LACE StartedAt: 2024-10-16 16:50:56 -0400 (Wed, 16 Oct 2024) EndedAt: 2024-10-16 16:51:44 -0400 (Wed, 16 Oct 2024) EllapsedTime: 48.0 seconds RetCode: 0 Status: OK