Package: LACE Version: 2.8.0 Command: rm -rf LACE.buildbin-libdir && mkdir LACE.buildbin-libdir && E:\biocbuild\bbs-3.19-bioc\R\bin\R.exe CMD INSTALL --build --library=LACE.buildbin-libdir LACE_2.8.0.tar.gz StartedAt: 2024-10-17 08:02:06 -0400 (Thu, 17 Oct 2024) EndedAt: 2024-10-17 08:02:50 -0400 (Thu, 17 Oct 2024) EllapsedTime: 44.2 seconds RetCode: 0 Status: OK PackageFile: LACE_2.8.0.zip PackageFileSize: 2.931 MiB