Package: LACE Version: 2.8.0 Command: rm -rf LACE.buildbin-libdir && mkdir LACE.buildbin-libdir && F:\biocbuild\bbs-3.19-bioc\R\bin\R.exe CMD INSTALL --build --library=LACE.buildbin-libdir LACE_2.8.0.tar.gz StartedAt: 2024-06-27 08:25:02 -0400 (Thu, 27 Jun 2024) EndedAt: 2024-06-27 08:25:53 -0400 (Thu, 27 Jun 2024) EllapsedTime: 51.5 seconds RetCode: 0 Status: OK PackageFile: LACE_2.8.0.zip PackageFileSize: 2.931 MiB