Package: LACE Version: 2.8.0 Command: /Library/Frameworks/R.framework/Resources/bin/R CMD build --keep-empty-dirs --no-resave-data LACE StartedAt: 2024-10-16 20:22:33 -0400 (Wed, 16 Oct 2024) EndedAt: 2024-10-16 20:24:42 -0400 (Wed, 16 Oct 2024) EllapsedTime: 129.8 seconds RetCode: 0 Status: OK PackageFile: LACE_2.8.0.tar.gz PackageFileSize: 4.085 MiB