Package: LACE Version: 2.8.0 Command: /Library/Frameworks/R.framework/Resources/bin/R CMD check --install=check:LACE.install-out.txt --library=/Library/Frameworks/R.framework/Resources/library --no-vignettes --timings LACE_2.8.0.tar.gz StartedAt: 2024-06-09 21:10:02 -0400 (Sun, 09 Jun 2024) EndedAt: 2024-06-09 21:14:10 -0400 (Sun, 09 Jun 2024) EllapsedTime: 248.0 seconds RetCode: 0 Status: OK CheckDir: LACE.Rcheck Warnings: 0