Package: LACE Version: 2.8.0 Command: /home/biocbuild/R/R-beta-2024-04-15_r86425/bin/R CMD build --keep-empty-dirs --no-resave-data LACE StartedAt: 2024-05-09 01:14:42 -0000 (Thu, 09 May 2024) EndedAt: 2024-05-09 01:15:53 -0000 (Thu, 09 May 2024) EllapsedTime: 71.1 seconds RetCode: 0 Status: OK PackageFile: LACE_2.8.0.tar.gz PackageFileSize: 4.146 MiB