Package: KnowSeq Version: 1.18.0 Command: E:\biocbuild\bbs-3.19-bioc\R\bin\R.exe CMD INSTALL KnowSeq StartedAt: 2024-10-16 17:08:00 -0400 (Wed, 16 Oct 2024) EndedAt: 2024-10-16 17:08:40 -0400 (Wed, 16 Oct 2024) EllapsedTime: 39.8 seconds RetCode: 0 Status: OK