Package: KnowSeq Version: 1.18.0 Command: chmod a+r KnowSeq -R && E:\biocbuild\bbs-3.19-bioc\R\bin\R.exe CMD build --keep-empty-dirs --no-resave-data KnowSeq StartedAt: 2024-10-16 19:58:02 -0400 (Wed, 16 Oct 2024) EndedAt: 2024-10-16 20:00:54 -0400 (Wed, 16 Oct 2024) EllapsedTime: 172.2 seconds RetCode: 0 Status: OK PackageFile: KnowSeq_1.18.0.tar.gz PackageFileSize: 7.855 MiB