Package: KnowSeq Version: 1.18.0 Command: chmod a+r KnowSeq -R && F:\biocbuild\bbs-3.19-bioc\R\bin\R.exe CMD build --keep-empty-dirs --no-resave-data KnowSeq StartedAt: 2024-06-26 19:43:07 -0400 (Wed, 26 Jun 2024) EndedAt: 2024-06-26 19:46:13 -0400 (Wed, 26 Jun 2024) EllapsedTime: 186.0 seconds RetCode: 0 Status: OK PackageFile: KnowSeq_1.18.0.tar.gz PackageFileSize: 7.855 MiB