Package: KnowSeq Version: 1.18.0 Command: /home/biocbuild/bbs-3.19-bioc/R/bin/R CMD INSTALL KnowSeq StartedAt: 2024-10-16 16:35:56 -0400 (Wed, 16 Oct 2024) EndedAt: 2024-10-16 16:36:26 -0400 (Wed, 16 Oct 2024) EllapsedTime: 29.9 seconds RetCode: 0 Status: OK