Package: KnowSeq Version: 1.18.0 Command: /Library/Frameworks/R.framework/Resources/bin/R CMD build --keep-empty-dirs --no-resave-data KnowSeq StartedAt: 2024-10-16 20:22:01 -0400 (Wed, 16 Oct 2024) EndedAt: 2024-10-16 20:27:12 -0400 (Wed, 16 Oct 2024) EllapsedTime: 311.8 seconds RetCode: 0 Status: OK PackageFile: KnowSeq_1.18.0.tar.gz PackageFileSize: 8.243 MiB