Package: KnowSeq Version: 1.18.0 Command: rm -rf KnowSeq.buildbin-libdir && mkdir KnowSeq.buildbin-libdir && /Users/biocbuild/BBS/utils/build-universal.sh KnowSeq_1.18.0.tar.gz /Library/Frameworks/R.framework/Resources/bin/R KnowSeq.buildbin-libdir StartedAt: 2024-10-17 16:27:52 -0400 (Thu, 17 Oct 2024) EndedAt: 2024-10-17 16:29:11 -0400 (Thu, 17 Oct 2024) EllapsedTime: 79.1 seconds RetCode: 0 Status: OK PackageFile: KnowSeq_1.18.0.tgz PackageFileSize: 6.578 MiB