Package: KnowSeq Version: 1.18.0 Command: rm -rf KnowSeq.buildbin-libdir && mkdir KnowSeq.buildbin-libdir && /Users/biocbuild/BBS/utils/build-universal.sh KnowSeq_1.18.0.tar.gz /Library/Frameworks/R.framework/Resources/bin/R KnowSeq.buildbin-libdir StartedAt: 2024-06-10 00:24:20 -0400 (Mon, 10 Jun 2024) EndedAt: 2024-06-10 00:25:04 -0400 (Mon, 10 Jun 2024) EllapsedTime: 43.9 seconds RetCode: 0 Status: OK PackageFile: KnowSeq_1.18.0.tgz PackageFileSize: 6.593 MiB