Package: KnowSeq Version: 1.18.0 Command: /Library/Frameworks/R.framework/Resources/bin/R CMD build --keep-empty-dirs --no-resave-data KnowSeq StartedAt: 2024-06-09 23:32:29 -0400 (Sun, 09 Jun 2024) EndedAt: 2024-06-09 23:35:34 -0400 (Sun, 09 Jun 2024) EllapsedTime: 184.6 seconds RetCode: 0 Status: OK PackageFile: KnowSeq_1.18.0.tar.gz PackageFileSize: 8.262 MiB