Package: KnowSeq Version: 1.18.0 Command: /Library/Frameworks/R.framework/Resources/bin/R CMD build --keep-empty-dirs --no-resave-data KnowSeq StartedAt: 2024-10-17 03:10:33 -0400 (Thu, 17 Oct 2024) EndedAt: 2024-10-17 03:13:13 -0400 (Thu, 17 Oct 2024) EllapsedTime: 159.4 seconds RetCode: 0 Status: OK PackageFile: KnowSeq_1.18.0.tar.gz PackageFileSize: 8.259 MiB