Package: KinSwingR Version: 1.22.0 Command: E:\biocbuild\bbs-3.19-bioc\R\bin\R.exe CMD check --no-multiarch --install=check:KinSwingR.install-out.txt --library=E:\biocbuild\bbs-3.19-bioc\R\library --no-vignettes --timings KinSwingR_1.22.0.tar.gz StartedAt: 2024-10-10 02:19:21 -0400 (Thu, 10 Oct 2024) EndedAt: 2024-10-10 02:20:38 -0400 (Thu, 10 Oct 2024) EllapsedTime: 77.8 seconds RetCode: 0 Status: OK CheckDir: KinSwingR.Rcheck Warnings: 0