Package: KinSwingR Version: 1.22.0 Command: rm -rf KinSwingR.buildbin-libdir && mkdir KinSwingR.buildbin-libdir && E:\biocbuild\bbs-3.19-bioc\R\bin\R.exe CMD INSTALL --build --library=KinSwingR.buildbin-libdir KinSwingR_1.22.0.tar.gz StartedAt: 2024-10-10 07:34:10 -0400 (Thu, 10 Oct 2024) EndedAt: 2024-10-10 07:34:22 -0400 (Thu, 10 Oct 2024) EllapsedTime: 11.8 seconds RetCode: 0 Status: OK PackageFile: KinSwingR_1.22.0.zip PackageFileSize: 617.8 KiB