Package: KinSwingR Version: 1.22.0 Command: F:\biocbuild\bbs-3.19-bioc\R\bin\R.exe CMD INSTALL KinSwingR StartedAt: 2024-06-26 15:57:14 -0400 (Wed, 26 Jun 2024) EndedAt: 2024-06-26 15:57:23 -0400 (Wed, 26 Jun 2024) EllapsedTime: 9.0 seconds RetCode: 0 Status: OK