Package: KinSwingR Version: 1.22.0 Command: chmod a+r KinSwingR -R && F:\biocbuild\bbs-3.19-bioc\R\bin\R.exe CMD build --keep-empty-dirs --no-resave-data KinSwingR StartedAt: 2024-06-26 19:42:41 -0400 (Wed, 26 Jun 2024) EndedAt: 2024-06-26 19:43:22 -0400 (Wed, 26 Jun 2024) EllapsedTime: 40.7 seconds RetCode: 0 Status: OK PackageFile: KinSwingR_1.22.0.tar.gz PackageFileSize: 565.7 KiB