Package: KinSwingR Version: 1.22.0 Command: /Library/Frameworks/R.framework/Resources/bin/R CMD build --keep-empty-dirs --no-resave-data KinSwingR StartedAt: 2024-06-09 17:05:25 -0400 (Sun, 09 Jun 2024) EndedAt: 2024-06-09 17:06:04 -0400 (Sun, 09 Jun 2024) EllapsedTime: 38.3 seconds RetCode: 0 Status: OK PackageFile: KinSwingR_1.22.0.tar.gz PackageFileSize: 649.7 KiB