Package: KEGGgraph Version: 1.64.0 Command: /home/biocbuild/R/R-beta-2024-04-15_r86425/bin/R CMD check --install=check:KEGGgraph.install-out.txt --library=/home/biocbuild/R/R-beta-2024-04-15_r86425/site-library --no-vignettes --timings KEGGgraph_1.64.0.tar.gz StartedAt: 2024-05-09 08:47:21 -0000 (Thu, 09 May 2024) EndedAt: 2024-05-09 08:48:42 -0000 (Thu, 09 May 2024) EllapsedTime: 81.1 seconds RetCode: 0 Status: WARNINGS CheckDir: KEGGgraph.Rcheck Warnings: 1