Package: KEGGgraph Version: 1.64.0 Command: /Library/Frameworks/R.framework/Resources/bin/R CMD INSTALL KEGGgraph StartedAt: 2024-06-09 15:10:49 -0400 (Sun, 09 Jun 2024) EndedAt: 2024-06-09 15:10:58 -0400 (Sun, 09 Jun 2024) EllapsedTime: 8.8 seconds RetCode: 0 Status: OK