Package: KEGGgraph Version: 1.64.0 Command: /Library/Frameworks/R.framework/Resources/bin/R CMD check --install=check:KEGGgraph.install-out.txt --library=/Library/Frameworks/R.framework/Resources/library --no-vignettes --timings KEGGgraph_1.64.0.tar.gz StartedAt: 2024-06-10 19:55:17 -0400 (Mon, 10 Jun 2024) EndedAt: 2024-06-10 19:57:42 -0400 (Mon, 10 Jun 2024) EllapsedTime: 145.7 seconds RetCode: 0 Status: WARNINGS CheckDir: KEGGgraph.Rcheck Warnings: 1