Package: KEGGgraph Version: 1.64.0 Command: /Library/Frameworks/R.framework/Resources/bin/R CMD build --keep-empty-dirs --no-resave-data KEGGgraph StartedAt: 2024-10-17 03:09:24 -0400 (Thu, 17 Oct 2024) EndedAt: 2024-10-17 03:10:21 -0400 (Thu, 17 Oct 2024) EllapsedTime: 56.7 seconds RetCode: 0 Status: OK PackageFile: KEGGgraph_1.64.0.tar.gz PackageFileSize: 1.316 MiB