Package: KCsmart Version: 2.62.0 Command: F:\biocbuild\bbs-3.19-bioc\R\bin\R.exe CMD check --no-multiarch --install=check:KCsmart.install-out.txt --library=F:\biocbuild\bbs-3.19-bioc\R\library --no-vignettes --timings KCsmart_2.62.0.tar.gz StartedAt: 2024-06-27 02:58:50 -0400 (Thu, 27 Jun 2024) EndedAt: 2024-06-27 03:00:48 -0400 (Thu, 27 Jun 2024) EllapsedTime: 118.3 seconds RetCode: 0 Status: WARNINGS CheckDir: KCsmart.Rcheck Warnings: 1