Package: KCsmart Version: 2.62.0 Command: chmod a+r KCsmart -R && F:\biocbuild\bbs-3.19-bioc\R\bin\R.exe CMD build --keep-empty-dirs --no-resave-data KCsmart StartedAt: 2024-06-26 19:41:51 -0400 (Wed, 26 Jun 2024) EndedAt: 2024-06-26 19:42:31 -0400 (Wed, 26 Jun 2024) EllapsedTime: 39.3 seconds RetCode: 0 Status: OK PackageFile: KCsmart_2.62.0.tar.gz PackageFileSize: 1.712 MiB