Package: KCsmart Version: 2.62.0 Command: rm -rf KCsmart.buildbin-libdir && mkdir KCsmart.buildbin-libdir && F:\biocbuild\bbs-3.19-bioc\R\bin\R.exe CMD INSTALL --build --library=KCsmart.buildbin-libdir KCsmart_2.62.0.tar.gz StartedAt: 2024-06-27 08:24:43 -0400 (Thu, 27 Jun 2024) EndedAt: 2024-06-27 08:25:04 -0400 (Thu, 27 Jun 2024) EllapsedTime: 21.2 seconds RetCode: 0 Status: OK PackageFile: KCsmart_2.62.0.zip PackageFileSize: 2.096 MiB