Package: KCsmart Version: 2.62.0 Command: /home/biocbuild/bbs-3.19-bioc/R/bin/R CMD check --install=check:KCsmart.install-out.txt --library=/home/biocbuild/bbs-3.19-bioc/R/site-library --timings KCsmart_2.62.0.tar.gz StartedAt: 2024-10-17 01:48:13 -0400 (Thu, 17 Oct 2024) EndedAt: 2024-10-17 01:49:50 -0400 (Thu, 17 Oct 2024) EllapsedTime: 96.2 seconds RetCode: 0 Status: WARNINGS CheckDir: KCsmart.Rcheck Warnings: 1