Package: KCsmart Version: 2.62.0 Command: /home/biocbuild/bbs-3.19-bioc/R/bin/R CMD build --keep-empty-dirs --no-resave-data KCsmart StartedAt: 2024-10-16 19:09:44 -0400 (Wed, 16 Oct 2024) EndedAt: 2024-10-16 19:10:09 -0400 (Wed, 16 Oct 2024) EllapsedTime: 25.0 seconds RetCode: 0 Status: OK PackageFile: KCsmart_2.62.0.tar.gz PackageFileSize: 1.715 MiB