Package: KCsmart Version: 2.62.0 Command: /Library/Frameworks/R.framework/Resources/bin/R CMD INSTALL KCsmart StartedAt: 2024-10-16 16:26:00 -0400 (Wed, 16 Oct 2024) EndedAt: 2024-10-16 16:26:25 -0400 (Wed, 16 Oct 2024) EllapsedTime: 24.8 seconds RetCode: 0 Status: OK