Package: KCsmart Version: 2.62.0 Command: /Library/Frameworks/R.framework/Resources/bin/R CMD check --install=check:KCsmart.install-out.txt --library=/Library/Frameworks/R.framework/Resources/library --no-vignettes --timings KCsmart_2.62.0.tar.gz StartedAt: 2024-10-17 07:18:32 -0400 (Thu, 17 Oct 2024) EndedAt: 2024-10-17 07:21:58 -0400 (Thu, 17 Oct 2024) EllapsedTime: 206.7 seconds RetCode: 0 Status: WARNINGS CheckDir: KCsmart.Rcheck Warnings: 1