Package: KCsmart Version: 2.62.0 Command: /home/biocbuild/R/R-beta-2024-04-15_r86425/bin/R CMD check --install=check:KCsmart.install-out.txt --library=/home/biocbuild/R/R-beta-2024-04-15_r86425/site-library --no-vignettes --timings KCsmart_2.62.0.tar.gz StartedAt: 2024-05-09 08:47:13 -0000 (Thu, 09 May 2024) EndedAt: 2024-05-09 08:49:03 -0000 (Thu, 09 May 2024) EllapsedTime: 110.2 seconds RetCode: 0 Status: WARNINGS CheckDir: KCsmart.Rcheck Warnings: 1