Package: IsoformSwitchAnalyzeR Version: 2.4.0 Command: rm -rf IsoformSwitchAnalyzeR.buildbin-libdir && mkdir IsoformSwitchAnalyzeR.buildbin-libdir && /Users/biocbuild/BBS/utils/build-universal.sh IsoformSwitchAnalyzeR_2.4.0.tar.gz /Library/Frameworks/R.framework/Resources/bin/R IsoformSwitchAnalyzeR.buildbin-libdir StartedAt: 2024-06-11 11:46:03 -0400 (Tue, 11 Jun 2024) EndedAt: 2024-06-11 11:48:26 -0400 (Tue, 11 Jun 2024) EllapsedTime: 143.0 seconds RetCode: 0 Status: OK PackageFile: IsoformSwitchAnalyzeR_2.4.0.tgz PackageFileSize: 7.384 MiB