Package: IsoformSwitchAnalyzeR Version: 2.4.0 Command: /Library/Frameworks/R.framework/Resources/bin/R CMD INSTALL IsoformSwitchAnalyzeR StartedAt: 2024-10-16 18:13:56 -0400 (Wed, 16 Oct 2024) EndedAt: 2024-10-16 18:15:10 -0400 (Wed, 16 Oct 2024) EllapsedTime: 74.0 seconds RetCode: 0 Status: OK