Package: IsoformSwitchAnalyzeR Version: 2.4.0 Command: /Library/Frameworks/R.framework/Resources/bin/R CMD build --keep-empty-dirs --no-resave-data IsoformSwitchAnalyzeR StartedAt: 2024-10-17 03:05:01 -0400 (Thu, 17 Oct 2024) EndedAt: 2024-10-17 03:09:20 -0400 (Thu, 17 Oct 2024) EllapsedTime: 258.7 seconds RetCode: 0 Status: OK PackageFile: IsoformSwitchAnalyzeR_2.4.0.tar.gz PackageFileSize: 6.596 MiB