Package: IsoformSwitchAnalyzeR Version: 2.4.0 Command: rm -rf IsoformSwitchAnalyzeR.buildbin-libdir && mkdir IsoformSwitchAnalyzeR.buildbin-libdir && /Users/biocbuild/BBS/utils/build-universal.sh IsoformSwitchAnalyzeR_2.4.0.tar.gz /Library/Frameworks/R.framework/Resources/bin/R IsoformSwitchAnalyzeR.buildbin-libdir StartedAt: 2024-10-18 19:05:50 -0400 (Fri, 18 Oct 2024) EndedAt: 2024-10-18 19:07:25 -0400 (Fri, 18 Oct 2024) EllapsedTime: 95.8 seconds RetCode: 0 Status: OK PackageFile: IsoformSwitchAnalyzeR_2.4.0.tgz PackageFileSize: 7.384 MiB