Package: IsoCorrectoRGUI Version: 1.20.0 Command: E:\biocbuild\bbs-3.19-bioc\R\bin\R.exe CMD INSTALL IsoCorrectoRGUI StartedAt: 2024-10-16 16:16:53 -0400 (Wed, 16 Oct 2024) EndedAt: 2024-10-16 16:17:27 -0400 (Wed, 16 Oct 2024) EllapsedTime: 33.7 seconds RetCode: 0 Status: OK