Package: IsoCorrectoRGUI Version: 1.20.0 Command: E:\biocbuild\bbs-3.19-bioc\R\bin\R.exe CMD check --no-multiarch --install=check:IsoCorrectoRGUI.install-out.txt --library=E:\biocbuild\bbs-3.19-bioc\R\library --no-vignettes --timings IsoCorrectoRGUI_1.20.0.tar.gz StartedAt: 2024-10-17 02:39:37 -0400 (Thu, 17 Oct 2024) EndedAt: 2024-10-17 02:40:22 -0400 (Thu, 17 Oct 2024) EllapsedTime: 45.2 seconds RetCode: 0 Status: OK CheckDir: IsoCorrectoRGUI.Rcheck Warnings: 0