Package: IsoCorrectoRGUI Version: 1.20.0 Command: /home/biocbuild/bbs-3.19-bioc/R/bin/R CMD check --install=check:IsoCorrectoRGUI.install-out.txt --library=/home/biocbuild/bbs-3.19-bioc/R/site-library --timings IsoCorrectoRGUI_1.20.0.tar.gz StartedAt: 2024-10-17 01:44:48 -0400 (Thu, 17 Oct 2024) EndedAt: 2024-10-17 01:45:22 -0400 (Thu, 17 Oct 2024) EllapsedTime: 34.0 seconds RetCode: 0 Status: OK CheckDir: IsoCorrectoRGUI.Rcheck Warnings: 0