Package: IsoBayes Version: 1.2.7 Command: /Library/Frameworks/R.framework/Resources/bin/R CMD INSTALL IsoBayes StartedAt: 2024-10-16 16:55:02 -0400 (Wed, 16 Oct 2024) EndedAt: 2024-10-16 16:55:49 -0400 (Wed, 16 Oct 2024) EllapsedTime: 47.0 seconds RetCode: 0 Status: OK