Package: IntramiRExploreR Version: 1.26.0 Command: E:\biocbuild\bbs-3.19-bioc\R\bin\R.exe CMD INSTALL IntramiRExploreR StartedAt: 2024-10-16 16:10:25 -0400 (Wed, 16 Oct 2024) EndedAt: 2024-10-16 16:10:49 -0400 (Wed, 16 Oct 2024) EllapsedTime: 25.0 seconds RetCode: 0 Status: OK