Package: IntramiRExploreR Version: 1.26.0 Command: /Library/Frameworks/R.framework/Resources/bin/R CMD check --install=check:IntramiRExploreR.install-out.txt --library=/Library/Frameworks/R.framework/Resources/library --no-vignettes --timings IntramiRExploreR_1.26.0.tar.gz StartedAt: 2024-10-17 07:03:53 -0400 (Thu, 17 Oct 2024) EndedAt: 2024-10-17 07:05:58 -0400 (Thu, 17 Oct 2024) EllapsedTime: 125.6 seconds RetCode: 0 Status: WARNINGS CheckDir: IntramiRExploreR.Rcheck Warnings: 2