Package: IntramiRExploreR Version: 1.26.0 Command: /Library/Frameworks/R.framework/Resources/bin/R CMD build --keep-empty-dirs --no-resave-data IntramiRExploreR StartedAt: 2024-10-16 20:14:24 -0400 (Wed, 16 Oct 2024) EndedAt: 2024-10-16 20:15:12 -0400 (Wed, 16 Oct 2024) EllapsedTime: 48.7 seconds RetCode: 0 Status: OK PackageFile: IntramiRExploreR_1.26.0.tar.gz PackageFileSize: 8.901 MiB