Package: IntramiRExploreR Version: 1.26.0 Command: /Library/Frameworks/R.framework/Resources/bin/R CMD INSTALL IntramiRExploreR StartedAt: 2024-06-09 15:22:23 -0400 (Sun, 09 Jun 2024) EndedAt: 2024-06-09 15:22:40 -0400 (Sun, 09 Jun 2024) EllapsedTime: 16.6 seconds RetCode: 0 Status: OK