Package: IntramiRExploreR Version: 1.26.0 Command: rm -rf IntramiRExploreR.buildbin-libdir && mkdir IntramiRExploreR.buildbin-libdir && /Users/biocbuild/BBS/utils/build-universal.sh IntramiRExploreR_1.26.0.tar.gz /Library/Frameworks/R.framework/Resources/bin/R IntramiRExploreR.buildbin-libdir StartedAt: 2024-10-18 19:02:56 -0400 (Fri, 18 Oct 2024) EndedAt: 2024-10-18 19:03:19 -0400 (Fri, 18 Oct 2024) EllapsedTime: 22.8 seconds RetCode: 0 Status: OK PackageFile: IntramiRExploreR_1.26.0.tgz PackageFileSize: 13.09 MiB