Package: IntramiRExploreR Version: 1.26.0 Maintainer: Surajit Bhattacharya MaintainerEmail: sbhattach2 at childrensnational.org git_url: https://git.bioconductor.org/packages/IntramiRExploreR git_branch: RELEASE_3_19 git_last_commit: 79abd70 git_last_commit_date: 2024-04-30 11:37:24 -0400 (Tue, 30 Apr 2024)