Package: InteractiveComplexHeatmap Version: 1.12.0 Command: E:\biocbuild\bbs-3.19-bioc\R\bin\R.exe CMD INSTALL InteractiveComplexHeatmap StartedAt: 2024-10-16 16:40:52 -0400 (Wed, 16 Oct 2024) EndedAt: 2024-10-16 16:43:10 -0400 (Wed, 16 Oct 2024) EllapsedTime: 138.0 seconds RetCode: 0 Status: OK