Package: InteractiveComplexHeatmap Version: 1.12.0 Command: /Library/Frameworks/R.framework/Resources/bin/R CMD INSTALL InteractiveComplexHeatmap StartedAt: 2024-10-16 15:58:51 -0400 (Wed, 16 Oct 2024) EndedAt: 2024-10-16 15:59:22 -0400 (Wed, 16 Oct 2024) EllapsedTime: 30.8 seconds RetCode: 0 Status: OK