Package: InteractionSet Version: 1.32.0 Maintainer: Aaron Lun MaintainerEmail: infinite.monkeys.with.keyboards at gmail.com git_url: https://git.bioconductor.org/packages/InteractionSet git_branch: RELEASE_3_19 git_last_commit: e2c2c18 git_last_commit_date: 2024-04-30 10:50:34 -0400 (Tue, 30 Apr 2024)